BEGIN:VCALENDAR
VERSION:2.0
PRODID:-//Soft Skills Consultants (Mauritius) - ECPv6.15.20//NONSGML v1.0//EN
CALSCALE:GREGORIAN
METHOD:PUBLISH
X-ORIGINAL-URL:https://softskills.mu
X-WR-CALDESC:Events for Soft Skills Consultants (Mauritius)
REFRESH-INTERVAL;VALUE=DURATION:PT1H
X-Robots-Tag:noindex
X-PUBLISHED-TTL:PT1H
BEGIN:VTIMEZONE
TZID:UTC
BEGIN:STANDARD
TZOFFSETFROM:+0000
TZOFFSETTO:+0000
TZNAME:UTC
DTSTART:20240101T000000
END:STANDARD
END:VTIMEZONE
BEGIN:VEVENT
DTSTART;TZID=UTC:20250610T080000
DTEND;TZID=UTC:20250611T170000
DTSTAMP:20260423T144204
CREATED:20241213T092435Z
LAST-MODIFIED:20250508T090944Z
UID:2502-1749542400-1749661200@softskills.mu
SUMMARY:Étiquette Téléphonique\, Techniques de Conversation & L'art de l'Email Professionnel
DESCRIPTION:
URL:https://softskills.mu/event/etiquette-telephonique-techniques-de-conversation-lart-de-lemail-professionnel-2/
ATTACH;FMTTYPE=image/jpeg:https://softskills.mu/wp-content/uploads/2024/09/pexels-photo-3183150-3183150-scaled.jpg
ORGANIZER;CN="Soft Skills Consultants (Mauritius) Ltd.":MAILTO:info@softskills.mu
END:VEVENT
BEGIN:VEVENT
DTSTART;TZID=UTC:20250605T090000
DTEND;TZID=UTC:20250609T050000
DTSTAMP:20260423T144204
CREATED:20240823T113749Z
LAST-MODIFIED:20250522T092835Z
UID:1457-1749114000-1749445200@softskills.mu
SUMMARY:Leadership Skills for New Supervisors and Managers
DESCRIPTION:
URL:https://softskills.mu/event/leadership-skills-for-new-supervisors-and-managers-2/
ATTACH;FMTTYPE=image/jpeg:https://softskills.mu/wp-content/uploads/2024/08/pexels-photo-4427430-4427430.jpg
ORGANIZER;CN="Soft Skills Consultants (Mauritius) Ltd.":MAILTO:info@softskills.mu
END:VEVENT
BEGIN:VEVENT
DTSTART;TZID=UTC:20250424T080000
DTEND;TZID=UTC:20250425T170000
DTSTAMP:20260423T144204
CREATED:20250304T090137Z
LAST-MODIFIED:20250304T090137Z
UID:2643-1745481600-1745600400@softskills.mu
SUMMARY:Emotional Intelligence Mastery: Transforming Teams Through Acting
DESCRIPTION:
URL:https://softskills.mu/event/emotional-intelligence-mastery-transforming-teams-through-acting-2/
END:VEVENT
BEGIN:VEVENT
DTSTART;TZID=UTC:20250421T080000
DTEND;TZID=UTC:20250422T170000
DTSTAMP:20260423T144204
CREATED:20250304T090039Z
LAST-MODIFIED:20250304T090039Z
UID:2641-1745222400-1745341200@softskills.mu
SUMMARY:Emotional Intelligence Mastery: Transforming Teams Through Acting
DESCRIPTION:
URL:https://softskills.mu/event/emotional-intelligence-mastery-transforming-teams-through-acting/
ORGANIZER;CN="Soft Skills Consultants (Mauritius) Ltd.":MAILTO:info@softskills.mu
END:VEVENT
BEGIN:VEVENT
DTSTART;TZID=UTC:20250415T080000
DTEND;TZID=UTC:20250416T170000
DTSTAMP:20260423T144204
CREATED:20241211T113310Z
LAST-MODIFIED:20250319T095131Z
UID:2476-1744704000-1744822800@softskills.mu
SUMMARY:Culture Laboratory- Tools to measure and sustain your Workplace Culture
DESCRIPTION:
URL:https://softskills.mu/event/culture-laboratory-tools-to-measure-and-sustain-your-workplace-culture/
ORGANIZER;CN="Soft Skills Consultants (Mauritius) Ltd.":MAILTO:info@softskills.mu
END:VEVENT
BEGIN:VEVENT
DTSTART;TZID=UTC:20250414T090000
DTEND;TZID=UTC:20250414T170000
DTSTAMP:20260423T144204
CREATED:20241209T124638Z
LAST-MODIFIED:20250319T090701Z
UID:2440-1744621200-1744650000@softskills.mu
SUMMARY:Masterclass in Induction\, Re-induction and Onboarding
DESCRIPTION:
URL:https://softskills.mu/event/masterclass-in-induction-re-induction-and-onboarding/
ORGANIZER;CN="Soft Skills Consultants (Mauritius) Ltd.":MAILTO:info@softskills.mu
END:VEVENT
BEGIN:VEVENT
DTSTART;TZID=UTC:20250407T080000
DTEND;TZID=UTC:20250409T170000
DTSTAMP:20260423T144204
CREATED:20250304T085325Z
LAST-MODIFIED:20250304T085419Z
UID:2630-1744012800-1744218000@softskills.mu
SUMMARY:Accelerated Learning Certification
DESCRIPTION:
URL:https://softskills.mu/event/accelerated-learning-certification/
ORGANIZER;CN="Soft Skills Consultants (Mauritius) Ltd.":MAILTO:info@softskills.mu
END:VEVENT
END:VCALENDAR